BEGIN:VCALENDAR
VERSION:2.0
PRODID:-//ChamberMaster//Event Calendar 2.0//EN
METHOD:PUBLISH
X-PUBLISHED-TTL:P1H
REFRESH-INTERVAL:P1H
CALSCALE:GREGORIAN
BEGIN:VTIMEZONE
TZID:America/Chicago
BEGIN:DAYLIGHT
RRULE:FREQ=YEARLY;BYMONTH=3;BYDAY=2SU
DTSTART:20070101T000000
TZOFFSETFROM:-0600
TZOFFSETTO:-0500
TZNAME:Central Daylight Time
END:DAYLIGHT
BEGIN:STANDARD
RRULE:FREQ=YEARLY;BYMONTH=11;BYDAY=1SU
DTSTART:20070101T000000
TZOFFSETFROM:-0500
TZOFFSETTO:-0600
TZNAME:Central Standard Time
END:STANDARD
END:VTIMEZONE
BEGIN:VEVENT
DTSTART;VALUE=DATE:20260114
DTEND;VALUE=DATE:21000101
TRANSP:TRANSPARENT
X-MICROSOFT-CDO-ALLDAYEVENT:TRUE
SUMMARY:Paperless: Preparing for an Audit when Your Files are Digital
DESCRIPTION:Get a step-by-step plan to follow if you would like to become more tech savvy and efficient with your resources and be prepared for you next audit using digital files.
X-ALT-DESC;FMTTYPE=text/html:<!DOCTYPE html><html><head><title></title></head><body aria-disabled="false"><p>Get a step-by-step plan to follow if you would like to become more tech savvy and efficient with your resources and be prepared for you next audit using digital files.</p></body></html>
LOCATION:
UID:e.2002.1374248
SEQUENCE:3
DTSTAMP:20260422T200739Z
URL:https://info.cacfp.org/calendar/Details/paperless-preparing-for-an-audit-when-your-files-are-digital-1622377?sourceTypeId=Hub
END:VEVENT
END:VCALENDAR
